BEGIN:VCALENDAR
VERSION:2.0
PRODID:-//Jokkmokks marknad - ECPv6.15.20//NONSGML v1.0//EN
CALSCALE:GREGORIAN
METHOD:PUBLISH
X-WR-CALNAME:Jokkmokks marknad
X-ORIGINAL-URL:https://jokkmokksmarknad.se
X-WR-CALDESC:Händelser för Jokkmokks marknad
REFRESH-INTERVAL;VALUE=DURATION:PT1H
X-Robots-Tag:noindex
X-PUBLISHED-TTL:PT1H
BEGIN:VTIMEZONE
TZID:Europe/Stockholm
BEGIN:DAYLIGHT
TZOFFSETFROM:+0100
TZOFFSETTO:+0200
TZNAME:CEST
DTSTART:20250330T010000
END:DAYLIGHT
BEGIN:STANDARD
TZOFFSETFROM:+0200
TZOFFSETTO:+0100
TZNAME:CET
DTSTART:20251026T010000
END:STANDARD
BEGIN:DAYLIGHT
TZOFFSETFROM:+0100
TZOFFSETTO:+0200
TZNAME:CEST
DTSTART:20260329T010000
END:DAYLIGHT
BEGIN:STANDARD
TZOFFSETFROM:+0200
TZOFFSETTO:+0100
TZNAME:CET
DTSTART:20261025T010000
END:STANDARD
BEGIN:DAYLIGHT
TZOFFSETFROM:+0100
TZOFFSETTO:+0200
TZNAME:CEST
DTSTART:20270328T010000
END:DAYLIGHT
BEGIN:STANDARD
TZOFFSETFROM:+0200
TZOFFSETTO:+0100
TZNAME:CET
DTSTART:20271031T010000
END:STANDARD
END:VTIMEZONE
BEGIN:VEVENT
DTSTART;TZID=Europe/Stockholm:20260207T110000
DTEND;TZID=Europe/Stockholm:20260207T120000
DTSTAMP:20260420T210403
CREATED:20260202T173811Z
LAST-MODIFIED:20260202T173811Z
UID:10005785-1770462000-1770465600@jokkmokksmarknad.se
SUMMARY:Jojkworkshop för barn och ungdomar med Simon Marainen!
DESCRIPTION:Simon har under 2024 och 2025 gjort en skolturné där han lärt barnen jojka olika djur. Nu kommer han till Tjállegoahte och lär alla som vill jojka. \nVill du jojka björnen eller räven? Eller något helt annat som inte är ett djur? En vän\, áhkku eller ditt favoritträd? Kom och jojka eller bara lyssna! \nSpråk: Svenska och samiska
URL:https://jokkmokksmarknad.se/p/jojkworkshop-for-barn-och-ungdomar-med-simon-marainen/
LOCATION:Tjállegoahte\, Stortorget 4\, Jokkmokk
CATEGORIES:För barn och unga
ATTACH;FMTTYPE=image/png:https://jokkmokksmarknad.se/wp-content/uploads/2026/02/I.png
ORGANIZER;CN="Tj%C3%A1llegoahte":MAILTO:info@tjallegoahte.se
END:VEVENT
BEGIN:VEVENT
DTSTART;TZID=Europe/Stockholm:20260207T104500
DTEND;TZID=Europe/Stockholm:20260207T110000
DTSTAMP:20260420T210403
CREATED:20251106T122250Z
LAST-MODIFIED:20251106T122250Z
UID:10005467-1770461100-1770462000@jokkmokksmarknad.se
SUMMARY:Sagostund på svenska
DESCRIPTION:Sagostund på svenska. Om Stállo och andra samiska sagor. Inga Pirak Hedström berättar. Sarredievvá/barnrummet. Ingår i museets entré. (Gratis för barn 0-16 år i målsmans sällskap)
URL:https://jokkmokksmarknad.se/p/sagostund-pa-svenska/2026-02-07/
LOCATION:Ájtte\, Svenskt Fjäll- och Samemuseum\, Kyrkogatan 3\, Jokkmokk\, Sweden
CATEGORIES:För barn och unga
ATTACH;FMTTYPE=image/jpeg:https://jokkmokksmarknad.se/wp-content/uploads/2025/10/sagostund.jpg
ORGANIZER;CN="%C3%81jtte - Svenskt fj%C3%A4ll- och Samemuseum":MAILTO:info@ajtte.com
END:VEVENT
BEGIN:VEVENT
DTSTART;TZID=Europe/Stockholm:20260207T103000
DTEND;TZID=Europe/Stockholm:20260207T104500
DTSTAMP:20260420T210403
CREATED:20251106T122405Z
LAST-MODIFIED:20251106T122405Z
UID:10005465-1770460200-1770461100@jokkmokksmarknad.se
SUMMARY:Sagostund på lulesamiska
DESCRIPTION:Sagostund på lulesamiska. Inga Pirak Hedström berättar. Sarredievvá/barnrummet. Ingår i museets entré. (Gratis för barn 0-16 år i målsmans sällskap)
URL:https://jokkmokksmarknad.se/p/sagostund-pa-lulesamiska/2026-02-07/
LOCATION:Ájtte\, Svenskt Fjäll- och Samemuseum\, Kyrkogatan 3\, Jokkmokk\, Sweden
CATEGORIES:För barn och unga
ATTACH;FMTTYPE=image/jpeg:https://jokkmokksmarknad.se/wp-content/uploads/2025/10/sagostund.jpg
ORGANIZER;CN="%C3%81jtte - Svenskt fj%C3%A4ll- och Samemuseum":MAILTO:info@ajtte.com
END:VEVENT
BEGIN:VEVENT
DTSTART;TZID=Europe/Stockholm:20260207T093000
DTEND;TZID=Europe/Stockholm:20260207T100000
DTSTAMP:20260420T210403
CREATED:20260202T173643Z
LAST-MODIFIED:20260202T173643Z
UID:10005784-1770456600-1770458400@jokkmokksmarknad.se
SUMMARY:Möt Jokkmokks unga läsråd
DESCRIPTION:Ungdomar från Jokkmokks ungas läsråd berättar tillsammans med läsrådsledaren Moa Backe Åstot om sin resa genom litteraturen. \nUnder ett antal träffar utforskar de läsning och muntliga berättartraditioner med fokus på samiska traditioner. \nDeltagarna framför även egna texter. \nModerator: Tjállegoahte
URL:https://jokkmokksmarknad.se/p/mot-jokkmokks-unga-lasrad/
LOCATION:Tjállegoahte\, Stortorget 4\, Jokkmokk
CATEGORIES:Filmer / Föreläsningar,För barn och unga
ATTACH;FMTTYPE=image/png:https://jokkmokksmarknad.se/wp-content/uploads/2026/02/H.png
ORGANIZER;CN="Tj%C3%A1llegoahte":MAILTO:info@tjallegoahte.se
END:VEVENT
BEGIN:VEVENT
DTSTART;TZID=Europe/Stockholm:20260207T090000
DTEND;TZID=Europe/Stockholm:20260207T180000
DTSTAMP:20260420T210403
CREATED:20251124T092516Z
LAST-MODIFIED:20251124T092516Z
UID:10005660-1770454800-1770487200@jokkmokksmarknad.se
SUMMARY:Snölandet
DESCRIPTION:En plats där leken får plats. Här finns format av snö rutchkanor\, snögrottor och tunnlar\, olika åkdon\, värmande eldar och en snöborg. \nOmrådet är även ”Nallas” territorium.  En isbjörn som vakar över området.
URL:https://jokkmokksmarknad.se/p/snolandet/2026-02-07/
LOCATION:Snölandet
CATEGORIES:För barn och unga
ATTACH;FMTTYPE=image/jpeg:https://jokkmokksmarknad.se/wp-content/uploads/2025/11/smaoamdet.jpg
END:VEVENT
BEGIN:VEVENT
DTSTART;TZID=Europe/Stockholm:20260206T180000
DTEND;TZID=Europe/Stockholm:20260206T200000
DTSTAMP:20260420T210403
CREATED:20260116T144506Z
LAST-MODIFIED:20260116T150655Z
UID:10005770-1770400800-1770408000@jokkmokksmarknad.se
SUMMARY:Samedisco för barn & ungdomar
DESCRIPTION:Jokkmokks sameförening bjuder in till disco för barn (från förskoleklass) och ungdomar. \nFredagen den 6 februari kl. 18-20 på Folkets hus.\nKostar 50kr per barn/ungdom (vuxna som sällskap går in gratis). \nSameföreningen har några ansvariga på plats för arrangemanget men inget ansvar för barn/ungdomarna. \nBURES BOAHTIN!\nBUORISBOAHTEM!\nBUERIE BÅETEME! \nMed stöd från KUPP
URL:https://jokkmokksmarknad.se/p/samedisco-for-barn-ungdomar/
CATEGORIES:För barn och unga
ATTACH;FMTTYPE=image/jpeg:https://jokkmokksmarknad.se/wp-content/uploads/2026/01/disco-2026.jpg
END:VEVENT
BEGIN:VEVENT
DTSTART;TZID=Europe/Stockholm:20260206T180000
DTEND;TZID=Europe/Stockholm:20260206T190000
DTSTAMP:20260420T210403
CREATED:20251111T091036Z
LAST-MODIFIED:20260119T095138Z
UID:10005507-1770400800-1770404400@jokkmokksmarknad.se
SUMMARY:Nuoraiid Lávdi - ung samisk scen
DESCRIPTION:Plats på scen för några av Sápmis unga starkast lysande stjärnor. Lyssna till jojk\, sång och musik! Alla på scenen är under 30 år och vissa kanske står på scen för första gången. Under Nuoraiid Lávdi uppträder aristerna med stolthet\, mod och kreativitet! När de kliver upp på scen för de vidare vårt språk\, våra berättelser och vår kultur på sitt eget sätt. Deras uttryck är lika mångfacetterat som Sápmi självt – tradition möter nutid\, och varje ton bär på en egen berättelse. \nÄr du en ung samisk artist och vill uppträda? Anmäl ditt deltagande till juhanniila@saminuorra.org eller messa +46738409565. \nBiljetter säljs via Billetto: https://billetto.se/e/nuoraiid-lavdi-ung-samisk-scen-biljetter-1815702 \nPris: 100 kr för vuxna. 50 kr för ungdomar. Gratis för medlemmar i Sáminuorra. \nNuoraiid Lávdi arrangeras av Sáminuorra det samiska ungdomsförbundet med stöd från Kupp – Jokkmokk\, Snabba Ryck – Region Norrbotten och Sparbanken Nord.
URL:https://jokkmokksmarknad.se/p/nuoraiid-lavdi-ung-samisk-scen/
LOCATION:Östra Skolans Aula\, Kyrkogatan 4\, Jokkmokk\, 962 33\, Sweden
CATEGORIES:För barn och unga,Föreställningar / Nöjen
ATTACH;FMTTYPE=image/jpeg:https://jokkmokksmarknad.se/wp-content/uploads/2025/11/ungsamiskscen-header.jpg
ORGANIZER;CN="Saminuorra":MAILTO:juhanniila@saminuorra.org
END:VEVENT
BEGIN:VEVENT
DTSTART;TZID=Europe/Stockholm:20260206T160000
DTEND;TZID=Europe/Stockholm:20260206T170000
DTSTAMP:20260420T210403
CREATED:20260202T172233Z
LAST-MODIFIED:20260202T172233Z
UID:10005780-1770393600-1770397200@jokkmokksmarknad.se
SUMMARY:Sámij álmmukbiejvve - Samefolkets dag
DESCRIPTION:Sáminuorra bjuder på tårtmingel.
URL:https://jokkmokksmarknad.se/p/samij-almmukbiejvve-samefolkets-dag/
LOCATION:Tjállegoahte\, Stortorget 4\, Jokkmokk
CATEGORIES:För barn och unga,Föreställningar / Nöjen
ATTACH;FMTTYPE=image/png:https://jokkmokksmarknad.se/wp-content/uploads/2026/02/D.png
ORGANIZER;CN="Saminuorra":MAILTO:juhanniila@saminuorra.org
END:VEVENT
BEGIN:VEVENT
DTSTART;TZID=Europe/Stockholm:20260206T140000
DTEND;TZID=Europe/Stockholm:20260206T144500
DTSTAMP:20260420T210403
CREATED:20251106T110442Z
LAST-MODIFIED:20251106T110651Z
UID:10005441-1770386400-1770389100@jokkmokksmarknad.se
SUMMARY:Teater – Gasku Sámis
DESCRIPTION:En musik-och berättarföreställning om en sameflicka med ett mod som den starkaste renvajan.\nIrene har tråkigt\, hon har inget att göra. Hennes bror och syster är upptagna med olika sysslor och hennes mormor berättar bara samma historier som hon redan har hört. Hon beger sig därför ut på äventyr och möter både djur och väsen\, som den lilla grodan\, den ståtliga korpen och den stora\, farliga och elaka Stállu. Med list\, mod och empati tar hon sig igenom de utmaningar hon möter.\nFöreställningen ges på svenska med inslag av samiska. Det är en spännande och humoristisk berättelse som vänder sig till barn 5-8 år och deras vuxna. Samarr Jokkmokks riksteaterförening. Platsbiljett krävs.
URL:https://jokkmokksmarknad.se/p/teater-gasku-samis/
LOCATION:Ájtte\, Svenskt Fjäll- och Samemuseum\, Kyrkogatan 3\, Jokkmokk\, Sweden
CATEGORIES:För barn och unga,Föreställningar / Nöjen
ATTACH;FMTTYPE=image/png:https://jokkmokksmarknad.se/wp-content/uploads/2025/11/gasku-samis.png
ORGANIZER;CN="%C3%81jtte - Svenskt fj%C3%A4ll- och Samemuseum":MAILTO:info@ajtte.com
END:VEVENT
BEGIN:VEVENT
DTSTART;TZID=Europe/Stockholm:20260206T120000
DTEND;TZID=Europe/Stockholm:20260206T130000
DTSTAMP:20260420T210403
CREATED:20251111T094802Z
LAST-MODIFIED:20260126T121715Z
UID:10005468-1770379200-1770382800@jokkmokksmarknad.se
SUMMARY:Sápmis hjältar – ett magasin av unga i Sápmi
DESCRIPTION:Vi presenterar magasinet “Sápmis hjältar”\, fullt av serier och berättelser skapade av unga från Sápmi. Efter presentationen blir det prisutdelning till vinnarna i Tjále Sámen-tävlingen – vi lyfter fram unga samiska röster och berättelser! \nArrangemanget riktar sig särskilt till barn och ungdomar som är nyfikna på skapande\, berättande och serier på de samiska språken\, men alla är välkomna! \nDetta är ett samarbete mellan Samiskt språkcentrum\, Polarbibblo\, Tjállegoahte och Samernas bibliotek. \nBuerie båeteme! Buerestbåhtieme! Burist båhtem! Buorisboahtem! Bures boahtin! Välkommen!
URL:https://jokkmokksmarknad.se/p/sapmis-hjaltar-ett-magasin-av-unga-i-sapmi/
LOCATION:Ája – Arkiv och Bibliotek\, Lärargatan 2\, Jokkmokk\, Sweden
CATEGORIES:För barn och unga
ATTACH;FMTTYPE=image/png:https://jokkmokksmarknad.se/wp-content/uploads/2025/11/Sapmis-hjaltar.png
END:VEVENT
BEGIN:VEVENT
DTSTART;TZID=Europe/Stockholm:20260206T104500
DTEND;TZID=Europe/Stockholm:20260206T110000
DTSTAMP:20260420T210403
CREATED:20251106T122250Z
LAST-MODIFIED:20251106T122250Z
UID:10005466-1770374700-1770375600@jokkmokksmarknad.se
SUMMARY:Sagostund på svenska
DESCRIPTION:Sagostund på svenska. Om Stállo och andra samiska sagor. Inga Pirak Hedström berättar. Sarredievvá/barnrummet. Ingår i museets entré. (Gratis för barn 0-16 år i målsmans sällskap)
URL:https://jokkmokksmarknad.se/p/sagostund-pa-svenska/2026-02-06/
LOCATION:Ájtte\, Svenskt Fjäll- och Samemuseum\, Kyrkogatan 3\, Jokkmokk\, Sweden
CATEGORIES:För barn och unga
ATTACH;FMTTYPE=image/jpeg:https://jokkmokksmarknad.se/wp-content/uploads/2025/10/sagostund.jpg
ORGANIZER;CN="%C3%81jtte - Svenskt fj%C3%A4ll- och Samemuseum":MAILTO:info@ajtte.com
END:VEVENT
BEGIN:VEVENT
DTSTART;TZID=Europe/Stockholm:20260206T103000
DTEND;TZID=Europe/Stockholm:20260206T104500
DTSTAMP:20260420T210403
CREATED:20251106T122405Z
LAST-MODIFIED:20251106T122405Z
UID:10005464-1770373800-1770374700@jokkmokksmarknad.se
SUMMARY:Sagostund på lulesamiska
DESCRIPTION:Sagostund på lulesamiska. Inga Pirak Hedström berättar. Sarredievvá/barnrummet. Ingår i museets entré. (Gratis för barn 0-16 år i målsmans sällskap)
URL:https://jokkmokksmarknad.se/p/sagostund-pa-lulesamiska/2026-02-06/
LOCATION:Ájtte\, Svenskt Fjäll- och Samemuseum\, Kyrkogatan 3\, Jokkmokk\, Sweden
CATEGORIES:För barn och unga
ATTACH;FMTTYPE=image/jpeg:https://jokkmokksmarknad.se/wp-content/uploads/2025/10/sagostund.jpg
ORGANIZER;CN="%C3%81jtte - Svenskt fj%C3%A4ll- och Samemuseum":MAILTO:info@ajtte.com
END:VEVENT
BEGIN:VEVENT
DTSTART;TZID=Europe/Stockholm:20260206T090000
DTEND;TZID=Europe/Stockholm:20260206T180000
DTSTAMP:20260420T210403
CREATED:20251124T092516Z
LAST-MODIFIED:20251124T092516Z
UID:10005659-1770368400-1770400800@jokkmokksmarknad.se
SUMMARY:Snölandet
DESCRIPTION:En plats där leken får plats. Här finns format av snö rutchkanor\, snögrottor och tunnlar\, olika åkdon\, värmande eldar och en snöborg. \nOmrådet är även ”Nallas” territorium.  En isbjörn som vakar över området.
URL:https://jokkmokksmarknad.se/p/snolandet/2026-02-06/
LOCATION:Snölandet
CATEGORIES:För barn och unga
ATTACH;FMTTYPE=image/jpeg:https://jokkmokksmarknad.se/wp-content/uploads/2025/11/smaoamdet.jpg
END:VEVENT
BEGIN:VEVENT
DTSTART;TZID=Europe/Stockholm:20260205T151500
DTEND;TZID=Europe/Stockholm:20260205T210000
DTSTAMP:20260420T210403
CREATED:20251112T103717Z
LAST-MODIFIED:20260114T125329Z
UID:10005452-1770304500-1770325200@jokkmokksmarknad.se
SUMMARY:Arctic Pulse Konsert - Unga Musiker från Norr
DESCRIPTION:En energifylld kväll med musik på Folkets Hus! \nFem unga band från Sverige och Finland bjuder på allt från avskalade akustiska uttryck och modern pop till funk\, rock och sväng.\nKvällen avslutas av Idolfavoriten Leo Tekiel (Idol 2024) tillsammans med Burn Out Beats – en energifylld liveakt där rytm\, beat och stark scennärvaro står i centrum. \nSpelschema:\n15:15–16:00 PUA\n16:30–17:15 Olivia Käldström Band\n17:45–18:30 Dirty Fries\n19:00–19:45 Rock-1\n20:15–21:00 Leo Tekiel feat. Burn Out Beats \nFri entré – Först till kvarn! Missa inte chansen att uppleva framtidens artister live – varmt välkommen! \nKonserten arrangeras av Arctic Pulse i samarbete med Norrbottensmusiken\, Novia och Norrlandsoperan\, med stöd av Interreg Aurora\, Region Norrbotten\, Luleå kommun\, Region Västerbotten\, Umeå kommun och Lapin liitto.
URL:https://jokkmokksmarknad.se/p/arctic-pulse-konsert-unga-musiker-fran-norr/
LOCATION:Folkets Hus\, Föreningsgatan 8\, Jokkmokk
CATEGORIES:För barn och unga
ATTACH;FMTTYPE=image/png:https://jokkmokksmarknad.se/wp-content/uploads/2025/11/arctic-pulse.png
ORGANIZER;CN="Arctic Pulse":MAILTO:daniel.morcillo-almeida@norrbotten.se
END:VEVENT
BEGIN:VEVENT
DTSTART;TZID=Europe/Stockholm:20260205T090000
DTEND;TZID=Europe/Stockholm:20260205T180000
DTSTAMP:20260420T210403
CREATED:20251124T092516Z
LAST-MODIFIED:20251124T092516Z
UID:10005658-1770282000-1770314400@jokkmokksmarknad.se
SUMMARY:Snölandet
DESCRIPTION:En plats där leken får plats. Här finns format av snö rutchkanor\, snögrottor och tunnlar\, olika åkdon\, värmande eldar och en snöborg. \nOmrådet är även ”Nallas” territorium.  En isbjörn som vakar över området.
URL:https://jokkmokksmarknad.se/p/snolandet/2026-02-05/
LOCATION:Snölandet
CATEGORIES:För barn och unga
ATTACH;FMTTYPE=image/jpeg:https://jokkmokksmarknad.se/wp-content/uploads/2025/11/smaoamdet.jpg
END:VEVENT
END:VCALENDAR